BEGIN:VCALENDAR
VERSION:2.0
PRODID:-//Wisconsin IFT - ECPv6.15.20//NONSGML v1.0//EN
CALSCALE:GREGORIAN
METHOD:PUBLISH
X-WR-CALNAME:Wisconsin IFT
X-ORIGINAL-URL:https://wisconsinift.org
X-WR-CALDESC:Events for Wisconsin IFT
REFRESH-INTERVAL;VALUE=DURATION:PT1H
X-Robots-Tag:noindex
X-PUBLISHED-TTL:PT1H
BEGIN:VTIMEZONE
TZID:UTC
BEGIN:STANDARD
TZOFFSETFROM:+0000
TZOFFSETTO:+0000
TZNAME:UTC
DTSTART:20220101T000000
END:STANDARD
END:VTIMEZONE
BEGIN:VEVENT
DTSTART;TZID=UTC:20230413T173000
DTEND;TZID=UTC:20230413T210000
DTSTAMP:20260420T211342
CREATED:20230119T235034Z
LAST-MODIFIED:20230526T151557Z
UID:852-1681407000-1681419600@wisconsinift.org
SUMMARY:Student Night
DESCRIPTION:Upcoming Student Night \nPlease come join our celebration of our student scholarship winners on April 13\, 2023 at UW Madison Memorial Union in Madison\, WI. Our event will feature time for networking\, dinner and a discussion with panelists from food industry\, academia\, and government. Only $55 per person for the event. Students are FREE! \nPlease see event website to register. \n 
URL:https://wisconsinift.org/event/student-event/
LOCATION:University of Wisconsin Madison – Memorial Union\, 800 Langdon Street\, Madison\, WI\, 53706\, United States
CATEGORIES:Student Events
END:VEVENT
END:VCALENDAR